BEGIN:VCALENDAR
PRODID://WordPress//Event-Post-V5.9.2//EN
VERSION:2.0
BEGIN:VTIMEZONE
TZID:Europe/Paris
BEGIN:DAYLIGHT
TZOFFSETFROM:+0100
TZOFFSETTO:+0200
DTSTART:19700329T020000
RRULE:FREQ=YEARLY;BYDAY=-1SU;BYMONTH=3
END:DAYLIGHT
BEGIN:STANDARD
TZOFFSETFROM:+0200
TZOFFSETTO:+0100
TZNAME:CET
DTSTART:19701025T030000
RRULE:FREQ=YEARLY;BYDAY=-1SU;BYMONTH=10
END:STANDARD
END:VTIMEZONE
BEGIN:VEVENT
SUMMARY:Exposition à Saint-Orens : Entre affichage prestigieux et réalité commerciale
UID:https://sainto.info/exposition-a-saint-orens-entre-affichage-prestigieux-et-realite-commerciale/
LOCATION:
DTSTAMP:20260501
DTSTART;TZID=Europe/Paris:20260501
DTEND;TZID=Europe/Paris:20260510
DESCRIPTION:L’Espace Lauragais à Saint-Orens-de-Gameville s’apprête à
accueillir, du 1er au 10 mai 2026, une exposition présentée comme un
événement majeur de l’art moderne en Occitanie. Sous le titre
accrocheur « De Picasso à Warhol : les maîtres du XXe siècle », la
communication municipale promet « une opportunité rare de contempler
près de 120 œuvres », issues pour beaucoup de collections privées, afin
d’offrir « une rencontre intime avec les génies qui ont façonné notre
regard … à quelques pas de chez vous».



Cependant, il convient de préciser la nature exacte des pièces
présentées. Laurent Deshais, directeur de la galerie 349 à Bauzelle,
exposera principalement des affiches d’exposition encadrées, et non les
œuvres originales des maîtres mentionnés.

Derrière cet événement se cache un modèle économique ciblant les
artistes locaux. Le galeriste propose la location de box pour profiter de
l’aura du thème, arguant d’une exposition « sans aucun risque
financier ». La convention révèle pourtant des coûts significatifs pour
les exposants : 20 € d’adhésion, plus 300 € de frais de dossier  et
une commission de 40 % sur les ventes (réduite à 25 % si l’artiste
gère lui-même le montage, le démontage et les permanences).

La comparaison avec le circuit traditionnel met en lumière une
singularité de cet événement. Si les galeries privées prélèvent
habituellement entre 30 et 50 % sur les ventes, leur accès reste gratuit.
Ici, le visiteur doit s’acquitter d’un droit d’entrée de 8 €
(gratuit pour les moins de 18 ans) pour voir des affiches, tandis que les
artistes participants supportent des frais fixes importants.

Pour ceux souhaitant admirer de véritables œuvres de cette période,
plusieurs options s’offrent à vous :
À Saint-Orens, La médiathèque Altigone propose un fonds documentaire
riche, notamment l’ouvrage
Pablo Picasso 1881-1973 : Le génie du siècle.

Pour voir des œuvres modernes originales à Toulouse et sa région, voici
quelques propositions :
Les Abattoirs (Toulouse) : 12 €
Musée Toulouse-Lautrec (Albi) : 12 €
Musée des Orientalistes (Narbonne) : 4 €
Musée Soulages (Rodez) : 12 €

Rappel des informations pratiques de l’exposition à l’Espace Lauragais
:
Dates : Du 1er au 10 mai 2026
Horaires : Tous les jours de 10 h à 19 h
Vernissage : 30 avril à 18h30
END:VEVENT
END:VCALENDAR