BEGIN:VCALENDAR
PRODID://WordPress//Event-Post-V5.9.2//EN
VERSION:2.0
BEGIN:VTIMEZONE
TZID:Europe/Paris
BEGIN:DAYLIGHT
TZOFFSETFROM:+0100
TZOFFSETTO:+0200
DTSTART:19700329T020000
RRULE:FREQ=YEARLY;BYDAY=-1SU;BYMONTH=3
END:DAYLIGHT
BEGIN:STANDARD
TZOFFSETFROM:+0200
TZOFFSETTO:+0100
TZNAME:CET
DTSTART:19701025T030000
RRULE:FREQ=YEARLY;BYDAY=-1SU;BYMONTH=10
END:STANDARD
END:VTIMEZONE
BEGIN:VEVENT
SUMMARY:Festival Catakana à Catala les 2 et 3 mai 2026
UID:https://sainto.info/festival-catakana-a-catala-les-2-et-3-mai-2026/
LOCATION:
DTSTAMP:20260502
DTSTART;TZID=Europe/Paris:20260502
DTEND;TZID=Europe/Paris:20260503
DESCRIPTION:La troisième édition du Festival Catakana aura lieu samedi 2 et dimanche
3 mai prochain au château de Catala. Cet événement qui est ouvert à
tous et gratuit célèbre la culture geek, manga et la pop culture à
travers des animations variées. Près d’une quarantaine de stands y
seront présents. Il est organisé par Van Jean Nguyen, habitant de
St-Orens, graphiste et éditeur de mangas, avec toute une équipe de
bénévoles, en partenariat avec le service jeunesse de la mairie de
St-Orens.


Le thème cette année tourne autour de l’héroïque fantasy. Vous serrez
immergés dans un univers de quêtes, d’énigme et d’actions. Les
visiteurs recevront à l’accueil un passeport pour participer à la
guilde des aventuriers, un jeu collaboratif pour tous les âges.

Il est possible de réserver des places pour des ateliers manga, les samedi
et dimanche de 10 à 12h, animés par Jennyfer Caballe de Myria Edition.
Pour s’inscrire et pour plus d’informations consultez le site de
Catakana.fr.

D’autres ateliers seront en libre accès tout au long des deux jours :
origami, duels à l’épée, etc. Un concours de cosplay, contraction des
mots anglais costume et play, aura également lieu. Il sera possible de
se restaurer sur place.

L’Espace de vie sociale (EVS) au château de Catala propose d’imaginer
et de fabriquer ensemble les décors et les costumes du festival lors de
ses ateliers du mercredi 22 avril au samedi 25 avril de 14h à 18heures.

Attention: ne pas confondre catakana et katakana, un des trois alphabets
utilisé par les japonais pour représenter des mots d'origine étrangère,
le c de catakana faisant référence au quartier Catala !
END:VEVENT
END:VCALENDAR